BEGIN:VCALENDAR
VERSION:2.0
PRODID:spatie/icalendar-generator
NAME:VŠE
X-WR-CALNAME:VŠE
BEGIN:VEVENT
UID:kalendar.vse.cz-date-8414
DTSTAMP:20260424T153947Z
DTSTART:20260429T110000
DTEND:20260429T120000
SUMMARY:Seminář Otevřená věda - publikování v otevřeném režimu (C
 IKS)
DESCRIPTION:Co znamená otevřený přístup k publikacím neboli open acc
 ess a jaké máte jako autor možnosti své výstupy otevírat už od sam
 otného začátku publikačního procesu? Na semináři se dozvíte\, jak 
 je to s možno...
IMAGE;VALUE=URI;FMTTYPE=image/jpeg;DISPLAY=FULLSIZE:https://kalendar.vse.cz
 /img/event/65/6582.jpg
LOCATION:online
ORGANIZER;CN=openscience@vse.cz:MAILTO:Informační servis CIKS
END:VEVENT
END:VCALENDAR