BEGIN:VCALENDAR
VERSION:2.0
PRODID:spatie/icalendar-generator
NAME:VŠE
X-WR-CALNAME:VŠE
BEGIN:VEVENT
UID:kalendar.vse.cz-date-8391
DTSTAMP:20260424T153937Z
DTSTART:20260429T080000
DTEND:20260429T083000
SUMMARY:Online konzultační hodiny v MS Teams
DESCRIPTION:Máte nějaké dotazy ohledně studia v zahraničí? Připojte 
 se během našich pravidelných online konzultačních hodin v MS Teams\,
  které probíhají každou středu mezi 10:00 a 10:30.\ntým VSE Study A
 broad\, kaná...
LOCATION:Microsoft Teams
ORGANIZER;CN=ozs@vse.cz:MAILTO:Oddělení zahraničních styků VŠE v Praz
 e
END:VEVENT
END:VCALENDAR