BEGIN:VCALENDAR
VERSION:2.0
PRODID:spatie/icalendar-generator
NAME:VŠE
X-WR-CALNAME:VŠE
BEGIN:VEVENT
UID:kalendar.vse.cz-date-8387
DTSTAMP:20260420T054556Z
DTSTART:20260423T104500
DTEND:20260423T121500
SUMMARY:RSSE: Maria Montoya-Villalobos (University of Lille) (Measuring Amb
 iguity Attitudes Without Incentives: Evidence from an Introspection-Based 
 Method)
DESCRIPTION:It is our pleasure that Maria Montoya-Villalobos (University of
  Lille) will present on Thursday\, April 23\, 2026\, at 12:45 in room RB
 437 about the topic “Measuring Ambiguity Attitudes Without Incentive..
 .
URL:https://rsse.vse.cz/english/news/maria-montoya-villalobos-university-of
 -lille-23-4-2026/
IMAGE;VALUE=URI;FMTTYPE=image/jpeg;DISPLAY=FULLSIZE:https://kalendar.vse.cz
 /img/event/65/6569.jpg
LOCATION:RB 437
ORGANIZER;CN=lubomir.cingl@vse.cz:MAILTO:Lubomír Cingl
END:VEVENT
END:VCALENDAR