BEGIN:VCALENDAR
VERSION:2.0
PRODID:spatie/icalendar-generator
NAME:VŠE
X-WR-CALNAME:VŠE
BEGIN:VEVENT
UID:kalendar.vse.cz-date-8386
DTSTAMP:20260420T054556Z
DTSTART:20260423T160000
DTEND:20260423T170000
SUMMARY:Den otevřených dveří bakalářského programu Manažer obchodu 
 (Kombinované studium (při zaměstnání))
DESCRIPTION:Kombinovaný studijní obor Manažer obchodu připravuje pro ř
 ídící pozice na úrovni středního managementu obchodních organizací
 . Absolventi jsou schopni používat nástroje všech podnikohospodářsk
 ých disci...
ORGANIZER;CN=hana.machkova@vse.cz:MAILTO:prof. Ing. Hana Machková, CSc.
END:VEVENT
END:VCALENDAR