BEGIN:VCALENDAR
VERSION:2.0
PRODID:spatie/icalendar-generator
NAME:VŠE
X-WR-CALNAME:VŠE
BEGIN:VEVENT
UID:kalendar.vse.cz-date-8385
DTSTAMP:20260420T054558Z
DTSTART:20260421T160000
DTEND:20260421T180000
SUMMARY:PowerTalks (SKOK\, British Chamber of Commerce Czech Republic)
DESCRIPTION:1 in 2 women rate themselves less confident than men\, this is 
 what we call the confidence gap. And it’s exactly why PowerTalks exists.
 Now\, we’re taking it offline to create space for real conversation...
URL:https://www.instagram.com/britchamcz/
LOCATION:Quattro Modulare
ORGANIZER;CN=skok@vse.cz:MAILTO:Selin Garip
END:VEVENT
END:VCALENDAR