BEGIN:VCALENDAR
VERSION:2.0
PRODID:spatie/icalendar-generator
NAME:VŠE
X-WR-CALNAME:VŠE
BEGIN:VEVENT
UID:kalendar.vse.cz-date-8382
DTSTAMP:20260420T054557Z
DTSTART:20260427T133000
DTEND:20260427T190000
SUMMARY:Top realitní fondy 2026 (setkání lídrů realitního trhu)
DESCRIPTION:Zveme vás na druhý ročník exkluzivního Setkání lídrů r
 ealitního trhu přímo na VŠE.\n🙌🏻 V panelových diskusích vystou
 pí špičky z institucí jako PPF Group\, Penta Real Estate\, Komerční 
 banka či Cushman &a...
IMAGE;VALUE=URI;FMTTYPE=image/jpeg;DISPLAY=FULLSIZE:https://kalendar.vse.cz
 /img/event/65/6565.jpg
LOCATION:Vencovského aula
ORGANIZER;CN=jana.repova@isti.cz:MAILTO:ISTI
END:VEVENT
END:VCALENDAR