BEGIN:VCALENDAR
VERSION:2.0
PRODID:spatie/icalendar-generator
NAME:VŠE
X-WR-CALNAME:VŠE
BEGIN:VEVENT
UID:kalendar.vse.cz-date-8381
DTSTAMP:20260420T054557Z
DTSTART:20260428T180000
DTEND:20260428T193000
SUMMARY:Taneční workshop (Studujeme FPH)
DESCRIPTION:Ať už jsi úplný začátečník\, který si chce tanec jen v
 yzkoušet\, nebo už máš zkušenosti a preferuješ víc feminine styly n
 ebo naopak chceš vystoupit ze své komfortní zóny\, tahle lekce je pře
 sně pro Tebe!...
URL:https://www.instagram.com/studujemefph/
LOCATION:IB 307
ORGANIZER;CN=dvod19@vse.cz:MAILTO:Denisa Dvořáková
END:VEVENT
END:VCALENDAR