BEGIN:VCALENDAR
VERSION:2.0
PRODID:spatie/icalendar-generator
NAME:VŠE
X-WR-CALNAME:VŠE
BEGIN:VEVENT
UID:kalendar.vse.cz-date-8380
DTSTAMP:20260423T084927Z
DTSTART:20260428T140000
DTEND:20260428T190000
SUMMARY:4FEST (4FIS)
DESCRIPTION:Spolek 4FIS slaví první dekádu a ty u toho nesmíš chybět.
  Otevíráme epicentrum dění na kolejích Jarov pro studenty napříč v
 šemi fakultami a slibujeme odpoledne plné skvělé hudby a uvolněné at
 mosféry. ...
URL:https://4fis.cz/nevzdelavaci-akce/4fest-10-let-spolku/
LOCATION:koleje Jarov
ORGANIZER;CN=4fis.vedeni@gmail.com:MAILTO:Barbora Kosová
END:VEVENT
END:VCALENDAR