BEGIN:VCALENDAR
VERSION:2.0
PRODID:spatie/icalendar-generator
NAME:VŠE
X-WR-CALNAME:VŠE
BEGIN:VEVENT
UID:kalendar.vse.cz-date-8377
DTSTAMP:20260420T054558Z
DTSTART:20260427T133000
DTEND:20260427T190000
SUMMARY:TOP realitní fondy
DESCRIPTION:Exkluzivní setkání lídrů realitních fondů v České repu
 blice\, kde budou diskutovány klíčové výzvy a příležitosti\, kter
 é ovlivňují současný realitní trh. Přední odborníci z oboru se po
 dělí o své zkušeno...
URL:https://events-economia.cz/events/top-realitni-fondy
IMAGE;VALUE=URI;FMTTYPE=image/jpeg;DISPLAY=FULLSIZE:https://kalendar.vse.cz
 /img/event/65/6560.jpg
LOCATION:Vysoká škola ekonomická
ORGANIZER;CN=kran12@vse.cz:MAILTO:Nikol Krausová
END:VEVENT
END:VCALENDAR