BEGIN:VCALENDAR
VERSION:2.0
PRODID:spatie/icalendar-generator
NAME:VŠE
X-WR-CALNAME:VŠE
BEGIN:VEVENT
UID:kalendar.vse.cz-date-8375
DTSTAMP:20260420T054557Z
DTSTART:20260428T140000
DTEND:20260428T200000
SUMMARY:4FEST slaví 10. výročí
DESCRIPTION:Spolek 4FIS slaví první v úterý 28.4. první dekádu a zve
  studenty i akademiky ke společné oslavě. Přijďte na festival 4FEST
  na kolejích Jarov\, poznejte své okolí v neformálním prostředí a 
 užijte si od...
IMAGE;VALUE=URI;FMTTYPE=image/jpeg;DISPLAY=FULLSIZE:https://kalendar.vse.cz
 /img/event/65/6558.jpg
LOCATION:koleje Jarov
ORGANIZER;CN=info@4fis.cz:MAILTO:4FIS
END:VEVENT
END:VCALENDAR