BEGIN:VCALENDAR
VERSION:2.0
PRODID:spatie/icalendar-generator
NAME:VŠE
X-WR-CALNAME:VŠE
BEGIN:VEVENT
UID:kalendar.vse.cz-date-8369
DTSTAMP:20260424T153931Z
DTSTART:20260430T100000
DTEND:20260430T100000
SUMMARY:Uzávěrka 1. kola soutěže návratových grantů (konec příjmu 
 žádostí)
DESCRIPTION:Uzávěrka pro podání žádostí o projekty návratových gra
 ntů je 30. dubna 2026 ve 12 hod.\nŽadatel se v soutěži návratových 
 grantů může ucházet o podporu v rámci návratového grantu\, který 
 přispěje k tomu\,...
ORGANIZER;CN=sona.macurova@vse.cz:MAILTO:Soňa Macurová
END:VEVENT
END:VCALENDAR