BEGIN:VCALENDAR
VERSION:2.0
PRODID:spatie/icalendar-generator
NAME:VŠE
X-WR-CALNAME:VŠE
BEGIN:VEVENT
UID:kalendar.vse.cz-date-8346
DTSTAMP:20260421T060110Z
DTSTART;VALUE=DATE:20260609
DTEND;VALUE=DATE:20260902
SUMMARY:Registrace (registrace předmětů na další semestr)
X-MICROSOFT-CDO-ALLDAYEVENT:TRUE
URL:https://u3v.vse.cz/navody-pro-insis/registrace/
LOCATION:https://u3v.vse.cz/navody-pro-insis/registrace/
ORGANIZER;CN=u3v@vse.cz:MAILTO:U3V
END:VEVENT
END:VCALENDAR