BEGIN:VCALENDAR
VERSION:2.0
PRODID:spatie/icalendar-generator
NAME:VŠE
X-WR-CALNAME:VŠE
BEGIN:VEVENT
UID:kalendar.vse.cz-date-8325
DTSTAMP:20260420T054557Z
DTSTART:20260428T160000
DTEND:20260428T173000
SUMMARY:Exportní večer FMV: Afrika: nový prostor pro export a investice 
 (Václav Prášil (ředitel Odboru států subsaharské Afriky\, Ministers
 tvo zahraničních věcí ČR))
DESCRIPTION:Katedra mezinárodních ekonomických vztahů a Centrum asijsk
 ých studií na Fakultě mezinárodních vztahů VŠE v Praze vás zvou na
  další ze série Exportních večerů FMV v letním semestru 2025/26. V 
 úterý 28....
URL:https://cas.vse.cz/aktuality/exportni-vecery-na-fakulte-mezinarodnich-v
 ztahu-v-letnim-semestru-2025-26/
IMAGE;VALUE=URI;FMTTYPE=image/jpeg;DISPLAY=FULLSIZE:https://kalendar.vse.cz
 /img/event/65/6512.jpg
LOCATION:RB 210
ORGANIZER;CN=stuchliz@vse.cz:MAILTO:Zuzana Stuchlíková
END:VEVENT
END:VCALENDAR