BEGIN:VCALENDAR
VERSION:2.0
PRODID:spatie/icalendar-generator
NAME:VŠE
X-WR-CALNAME:VŠE
BEGIN:VEVENT
UID:kalendar.vse.cz-date-8294
DTSTAMP:20260423T084836Z
DTSTART:20260421T104500
DTEND:20260421T121500
SUMMARY:Jazykový test pro potvrzení úrovně jazyka na výměnné pobyty 
 v zahraničí (pro studenty bez doložitelné jazykové znalosti na úrovn
 i B2)
DESCRIPTION:Oddělení zahraničních styků vyhlašuje další termíny ja
 zykového testu pro studenty bez doložitelné znalosti AJ na úrovni B2
  (přehled jazykových dokladů zde). Test je určen zejména pro studen
 ty aktuálně...
LOCATION:SB M15
ORGANIZER;CN=ozs@vse.cz:MAILTO:Oddělení zahraničních styků (OZS)
END:VEVENT
END:VCALENDAR