BEGIN:VCALENDAR
VERSION:2.0
PRODID:spatie/icalendar-generator
NAME:VŠE
X-WR-CALNAME:VŠE
BEGIN:VEVENT
UID:kalendar.vse.cz-date-8037
DTSTAMP:20260420T054558Z
DTSTART:20260430T104500
DTEND:20260430T121500
SUMMARY:Jak zazářit na pohovoru (Kariérní workshop)
DESCRIPTION:Připravte se na pohovor s profesionálem\, personalistkou Ter
 ezou Valnohovou. Dozvíte se:\n– Jaké jsou nejčastější příčiny 
 neúspěchu uchazečů.– Jak se skutečně kvalitně připravit.– Jak 
 odpovídat na nejča...
URL:https://kc.vse.cz/aktuality/karierni-workshop-jak-zazarit-na-pohovoru-3
 0-4-2026/
IMAGE;VALUE=URI;FMTTYPE=image/jpeg;DISPLAY=FULLSIZE:https://kalendar.vse.cz
 /img/event/62/6254.jpg
LOCATION:online
ORGANIZER;CN=kc@vse.cz:MAILTO:Kariérní centrum VŠE
END:VEVENT
END:VCALENDAR