BEGIN:VCALENDAR
VERSION:2.0
PRODID:spatie/icalendar-generator
NAME:VŠE
X-WR-CALNAME:VŠE
BEGIN:VEVENT
UID:kalendar.vse.cz-date-8036
DTSTAMP:20260420T054558Z
DTSTART:20260427T123000
DTEND:20260427T140000
SUMMARY:Jak přežít zkouškové období (učební styly a zvládání str
 esu) (Kariérní workshop)
DESCRIPTION:Během studia\, a zvláště ve zkouškovém období\, se stude
 nti dostávají do situací\, které jsou náročné nejen po stránce vý
 konu\, ale i psychické pohody. Stres\, tlak na výsledky a nejistota čas
 to souvisí ta...
URL:https://kc.vse.cz/aktuality/karierni-workshop-jak-prezit-zkouskove-obdo
 bi-ucebni-styly-a-zvladani-stresu-27-4-2026/
IMAGE;VALUE=URI;FMTTYPE=image/jpeg;DISPLAY=FULLSIZE:https://kalendar.vse.cz
 /img/event/62/6253.jpg
LOCATION:online
ORGANIZER;CN=kc@vse.cz:MAILTO:Kariérní centrum VŠE
END:VEVENT
END:VCALENDAR