BEGIN:VCALENDAR
VERSION:2.0
PRODID:spatie/icalendar-generator
NAME:VŠE
X-WR-CALNAME:VŠE
BEGIN:VEVENT
UID:kalendar.vse.cz-date-7859
DTSTAMP:20260423T084901Z
DTSTART;VALUE=DATE:20251130
DTEND;VALUE=DATE:20260430
SUMMARY:Podávání přihlášek ke studiu
DESCRIPTION:Chceš u nás od příštího roku studovat? Ať už jde o baka
 lářský program IVWT\, magisterský program UIDS\, nebo některý z jin
 ých programů vyučovaných naší fakultou\, nezapomeň si podat přihl
 ášku!
X-MICROSOFT-CDO-ALLDAYEVENT:TRUE
ORGANIZER;CN=jana.hudcekova@vse.cz:MAILTO:Jana Hudčeková (studijní refer
 entka)
END:VEVENT
END:VCALENDAR