BEGIN:VCALENDAR
VERSION:2.0
PRODID:spatie/icalendar-generator
NAME:VŠE
X-WR-CALNAME:VŠE
BEGIN:VEVENT
UID:kalendar.vse.cz-date-7680
DTSTAMP:20260423T084936Z
DTSTART;VALUE=DATE:20260215
DTEND;VALUE=DATE:20260515
SUMMARY:Výukové období
X-MICROSOFT-CDO-ALLDAYEVENT:TRUE
ORGANIZER;CN=u3v@vse.cz:MAILTO:Univerzita třetího věku
END:VEVENT
END:VCALENDAR