BEGIN:VCALENDAR
VERSION:2.0
PRODID:spatie/icalendar-generator
NAME:VŠE
X-WR-CALNAME:VŠE
BEGIN:VEVENT
UID:kalendar.vse.cz-date-7668
DTSTAMP:20260423T084826Z
DTSTART;VALUE=DATE:20260423
DTEND;VALUE=DATE:20260424
SUMMARY:Termín odevzdání kvalifikační práce do InSIS
DESCRIPTION:\npro obhajoby v lednu a únoru odevzdání začátkem prosince
 \npro obhajoby v květnu a červenu odevzdání koncem dubna\npro obhajoby
  v září a říjnu odevzdání koncem června\n\nZávěrečné práce se
  odevzdávají pou...
X-MICROSOFT-CDO-ALLDAYEVENT:TRUE
URL:https://fmv.vse.cz/charakteristika-fakulty/informace-a-predpisy/
LOCATION:https://fmv.vse.cz/charakteristika-fakulty/informace-a-predpisy/
ORGANIZER;CN=jitka.turynova@vse.cz:MAILTO:Bc. Jitka Turynová
END:VEVENT
END:VCALENDAR