BEGIN:VCALENDAR
VERSION:2.0
PRODID:spatie/icalendar-generator
NAME:VŠE
X-WR-CALNAME:VŠE
BEGIN:VEVENT
UID:kalendar.vse.cz-date-7140
DTSTAMP:20260423T084913Z
DTSTART;VALUE=DATE:20260311
DTEND;VALUE=DATE:20260821
SUMMARY:Podávání žádostí o letní ubytování na kolejích VŠE
DESCRIPTION:Studenti\, kteří mají zájem o letní ubytování na kolejí
 ch VŠE v období od 30.6.2026 do 7.9.2026 si mohou podávat žádosti 
 v ISKAM do pořadníku Letní ubytování 2026/Summer accommodation 202
 6\, a to v term...
X-MICROSOFT-CDO-ALLDAYEVENT:TRUE
URL:https://suz.vse.cz/zajemci-o-ubytovani/zadosti-o-ubytovani/informace-k-
 podani-zadosti-o-letni-ubytovani/
IMAGE;VALUE=URI;FMTTYPE=image/jpeg;DISPLAY=FULLSIZE:https://kalendar.vse.cz
 /img/event/54/5480.jpg
LOCATION:https://suz.vse.cz/zajemci-o-ubytovani/zadosti-o-ubytovani/informa
 ce-k-podani-zadosti-o-letni-ubytovani/
ORGANIZER;CN=ubytovani@vse.cz:MAILTO:Centrální ubytování
END:VEVENT
END:VCALENDAR