BEGIN:VCALENDAR
VERSION:2.0
PRODID:spatie/icalendar-generator
NAME:VŠE
X-WR-CALNAME:VŠE
BEGIN:VEVENT
UID:kalendar.vse.cz-date-8411
DTSTAMP:20260424T075242Z
DTSTART:20260528T070000
DTEND:20260528T140000
SUMMARY:Využití AI v marketingu a komunikaci firem: Praktický workshop p
 ro marketéry a podnikatele (Naučte se\, jak využívat nástroje umělé
  inteligence pro svůj prospěch.)
DESCRIPTION:Praktické znalosti a dovednosti při využívání nástrojů 
 umělé inteligence v marketingové praxi. Naučíte se\, jak pomocí AI n
 ástrojů krok za krokem generovat texty\, obrázky\, videa nebo prezentac
 e pro vaš...
URL:https://kurzyfph.vse.cz/cs/detail-kurzu/ai-marketing-workshop
LOCATION:VŠE - Žižkov
ORGANIZER;CN=lucie.pacovska@vse.cz:MAILTO:Lucie Pacovská
END:VEVENT
END:VCALENDAR