BEGIN:VCALENDAR
VERSION:2.0
PRODID:spatie/icalendar-generator
NAME:VŠE
X-WR-CALNAME:VŠE
BEGIN:VEVENT
UID:kalendar.vse.cz-date-8409
DTSTAMP:20260424T075249Z
DTSTART:20260515T070000
DTEND:20260515T150000
SUMMARY:Cesta k rodinné ústavě (Praktický workshop pro podnikající ro
 diny)
DESCRIPTION:Centrum pro rodinné firmy VŠE připravilo celodenní worksho
 p\, který vás provede procesem tvorby rodinné ústavy. Odborníci se zk
 ušenostmi s poradenskou praxí pro rodinné firmy prof. Jiří Hnilica\, 
 Ph.D. ...
URL:https://kurzyfph.vse.cz/cs/detail-kurzu/cesta-k-rodinne-ustave
LOCATION:VŠE - Žižkov
ORGANIZER;CN=lucie.pacovska@vse.cz:MAILTO:Lucie Pacovská
END:VEVENT
END:VCALENDAR