BEGIN:VCALENDAR
VERSION:2.0
PRODID:spatie/icalendar-generator
NAME:VŠE
X-WR-CALNAME:VŠE
BEGIN:VEVENT
UID:kalendar.vse.cz-date-8406
DTSTAMP:20260424T092450Z
DTSTART:20260427T120000
DTEND:20260427T130000
SUMMARY:Meeting the IBB Program Guarantor (doc. Ing. Pavel Hnát\, Ph.D.)
DESCRIPTION:Join an informal session with the Program Director and current 
 students of the International Business program (English-taught). This meet
 ing will focus on student feedback and recent updates to the or...
LOCATION:NB 471
ORGANIZER;CN=tomas.sadilek@vse.cz:MAILTO:Tomáš Sadílek
END:VEVENT
END:VCALENDAR