BEGIN:VCALENDAR
VERSION:2.0
PRODID:spatie/icalendar-generator
NAME:VŠE
X-WR-CALNAME:VŠE
BEGIN:VEVENT
UID:kalendar.vse.cz-date-8405
DTSTAMP:20260424T075246Z
DTSTART:20260504T071500
DTEND:20260504T084500
SUMMARY:Guest talk by Yuki Tokunaga „A Study of Long-Established Japanese
  Companies\" (Culpedia (Japan))
DESCRIPTION:We cordially invite you to a guest talk and discussion with Mr 
 Yuki Tokunaga\, founder of Culpedia\, organised by the Center for Asian 
 Studies (CAS) and the Department of International Economic Relation...
URL:https://cas.vse.cz/aktuality/4-5-2026-guest-talk-by-yuki-tokunaga-a-stu
 dy-of-long-established-japanese-companies-toward-a-resilient-mature-societ
 y/
IMAGE;VALUE=URI;FMTTYPE=image/jpeg;DISPLAY=FULLSIZE:https://kalendar.vse.cz
 /img/event/65/6574.jpg
LOCATION:SB 322
ORGANIZER;CN=stuchliz@vse.cz:MAILTO:Zuzana Stuchlíková
END:VEVENT
END:VCALENDAR