BEGIN:VCALENDAR
VERSION:2.0
PRODID:spatie/icalendar-generator
NAME:VŠE
X-WR-CALNAME:VŠE
BEGIN:VEVENT
UID:kalendar.vse.cz-date-8389
DTSTAMP:20260423T084440Z
DTSTART:20260424T083000
DTEND:20260424T093000
SUMMARY:VŠELY: Rozšiřování úlů na střeše (Zážitek s eco včelami
  a včelaři VŠE)
DESCRIPTION:Včely na střeše VŠE přežily zimu a zdárně se na jaře r
 ozvíjí. Přijďte se seznámit\, co nyní obnáší prace včelaře:\nBu
 deme rozšiřovat úl\, abychom včelám umožnili růst. Na jeden úl ji
 ž možná nasadíme medn...
IMAGE;VALUE=URI;FMTTYPE=image/jpeg;DISPLAY=FULLSIZE:https://kalendar.vse.cz
 /img/event/65/6571.jpg
LOCATION:Sraz před RB 101
ORGANIZER;CN=jaroslav.pasmik@vse.cz:MAILTO:Jaroslav Pašmik
END:VEVENT
END:VCALENDAR