BEGIN:VCALENDAR
VERSION:2.0
PRODID:spatie/icalendar-generator
NAME:VŠE
X-WR-CALNAME:VŠE
BEGIN:VEVENT
UID:kalendar.vse.cz-date-8373
DTSTAMP:20260423T112703Z
DTSTART:20260519T110000
DTEND:20260519T150000
SUMMARY:AI Masterclass (Využívejte nástroje AI každý den pro vyšší 
 efektivitu a kreativitu.)
DESCRIPTION:Kurz seznamuje s využitím nástrojů AI a jejich praktickou a
 plikací se zaměřením na potřeby managementu firem.  \nProgram kurzu\
 n\nAI prakticky: Naší ambicí je představit generativní AI tak\, aby v
 ás lákal...
URL:https://kurzyfph.vse.cz/cs/detail-kurzu/ai-masterclass
LOCATION:VŠE - Žižkov
ORGANIZER;CN=lucie.pacovska@vse.cz:MAILTO:Lucie Pacovská
END:VEVENT
END:VCALENDAR