BEGIN:VCALENDAR
VERSION:2.0
PRODID:spatie/icalendar-generator
NAME:VŠE
X-WR-CALNAME:VŠE
BEGIN:VEVENT
UID:kalendar.vse.cz-date-8372
DTSTAMP:20260423T112736Z
DTSTART:20260521T160000
DTEND:20260521T170000
SUMMARY:Executive MBA (FPH VŠE) Open House
DESCRIPTION:Join us for the Executive MBA Spring Open House and discover ho
 w the Triple Crown-accredited Executive MBA at the Faculty of Business Ad
 ministration\, VŠE can accelerate your professional growth.\nDurin...
URL:https://emba.vse.cz/english/news/invest-in-your-future-register-for-exe
 cutive-mba-spring-open-house/
LOCATION:Online (Teams)
ORGANIZER;CN=jan.wegert@vse.cz:MAILTO:Jan Wegert
END:VEVENT
END:VCALENDAR