BEGIN:VCALENDAR
VERSION:2.0
PRODID:spatie/icalendar-generator
NAME:VŠE
X-WR-CALNAME:VŠE
BEGIN:VEVENT
UID:kalendar.vse.cz-date-8361
DTSTAMP:20260423T112705Z
DTSTART:20260505T150000
DTEND:20260505T160000
SUMMARY:Informační schůzka k studijnímu programu Skills for Transition 
 (Přidjte se dozvědět více o unikátním online studijním programu!)
DESCRIPTION:Nastartujte svou kariéru s dovednostmi z oblasti udržitelnost
 i. Vzdělávací program Skills for Transition vás provede zelenou transf
 ormací\, udržitelným financováním i cestou k Net Zero. Tento unikátn
 í ...
URL:https://corporatesolutions.gsom.it/skillsfortransition/
IMAGE;VALUE=URI;FMTTYPE=image/jpeg;DISPLAY=FULLSIZE:https://kalendar.vse.cz
 /img/event/65/6544.jpg
LOCATION:NB 244 nebo online
ORGANIZER;CN=jarolim.antal@vse.cz:MAILTO:Jarolím Antal
END:VEVENT
END:VCALENDAR