BEGIN:VCALENDAR
VERSION:2.0
PRODID:spatie/icalendar-generator
NAME:VŠE
X-WR-CALNAME:VŠE
BEGIN:VEVENT
UID:kalendar.vse.cz-date-8327
DTSTAMP:20260423T112736Z
DTSTART:20260512T160000
DTEND:20260512T173000
SUMMARY:Exportní večer FMV: B2G na polském trhu z pohledu společnosti 
 Škoda Transportation (Zbyněk Drugda (Sales Area Director\, Polish Market
  ve společnosti Škoda Transportation))
DESCRIPTION:Katedra mezinárodních ekonomických vztahů a Centrum asijsk
 ých studií na Fakultě mezinárodních vztahů VŠE v Praze vás zvou na
  další ze série Exportních večerů FMV v letním semestru 2025/26. V 
 úterý 12....
URL:https://cas.vse.cz/aktuality/exportni-vecery-na-fakulte-mezinarodnich-v
 ztahu-v-letnim-semestru-2025-26/
IMAGE;VALUE=URI;FMTTYPE=image/jpeg;DISPLAY=FULLSIZE:https://kalendar.vse.cz
 /img/event/65/6514.jpg
LOCATION:RB 210
ORGANIZER;CN=stuchliz@vse.cz:MAILTO:Zuzana Stuchlíková
END:VEVENT
END:VCALENDAR