BEGIN:VCALENDAR
VERSION:2.0
PRODID:spatie/icalendar-generator
NAME:VŠE
X-WR-CALNAME:VŠE
BEGIN:VEVENT
UID:kalendar.vse.cz-date-8326
DTSTAMP:20260423T084404Z
DTSTART:20260504T123000
DTEND:20260504T140000
SUMMARY:Exportní večer FMV: Byznys s Čínou: aktuální témata a specif
 ika (Jan Bejkovský (ředitel společnosti Euroasian E&C))
DESCRIPTION:Katedra mezinárodních ekonomických vztahů a Centrum asijsk
 ých studií na Fakultě mezinárodních vztahů VŠE v Praze vás zvou na
  další ze série Exportních večerů FMV v letním semestru 2025/26. V 
 pondělí 4...
URL:https://cas.vse.cz/aktuality/exportni-vecery-na-fakulte-mezinarodnich-v
 ztahu-v-letnim-semestru-2025-26/
IMAGE;VALUE=URI;FMTTYPE=image/jpeg;DISPLAY=FULLSIZE:https://kalendar.vse.cz
 /img/event/65/6513.jpg
LOCATION:SB 322
ORGANIZER;CN=stuchliz@vse.cz:MAILTO:Zuzana Stuchlíková
END:VEVENT
END:VCALENDAR