BEGIN:VCALENDAR
VERSION:2.0
PRODID:spatie/icalendar-generator
NAME:VŠE
X-WR-CALNAME:VŠE
BEGIN:VEVENT
UID:kalendar.vse.cz-date-8323
DTSTAMP:20260421T080541Z
DTSTART:20260505T090000
DTEND:20260505T103000
SUMMARY:Exportní večer FMV: Aktuální exportní a investiční přílež
 itosti pro české podniky ve Střední Asii (Lea Melnikovová)
DESCRIPTION:Katedra mezinárodních ekonomických vztahů a Centrum asijsk
 ých studií na Fakultě mezinárodních vztahů VŠE v Praze vás zvou na
  další ze série Exportních večerů FMV v letním semestru 2025/26. V 
 úterý 5. ...
URL:https://cas.vse.cz/aktuality/14-4-2026-exportni-vecer-fmv-aktualni-expo
 rtni-a-investicni-prilezitosti-pro-ceske-podniky-ve-stredni-asii/
IMAGE;VALUE=URI;FMTTYPE=image/jpeg;DISPLAY=FULLSIZE:https://kalendar.vse.cz
 /img/event/65/6510.jpg
LOCATION:RB 213
ORGANIZER;CN=stuchliz@vse.cz:MAILTO:Zuzana Stuchlíková
END:VEVENT
END:VCALENDAR