BEGIN:VCALENDAR
VERSION:2.0
PRODID:spatie/icalendar-generator
NAME:VŠE
X-WR-CALNAME:VŠE
BEGIN:VEVENT
UID:kalendar.vse.cz-date-7988
DTSTAMP:20260423T084426Z
DTSTART;VALUE=DATE:20260609
DTEND;VALUE=DATE:20260612
SUMMARY:Od hype k dopadu: Jak proměnit umělou inteligenci ve skutečnou b
 yznys hodnotu (konference BIS 2026)
DESCRIPTION:V posledních letech se umělá inteligence posunula z perspekt
 ivní technologické novinky do role klíčové síly formující podnikov
 é strategie a inovace. Jak však organizace zrychleně zavádějí nástr
 oje a ř...
X-MICROSOFT-CDO-ALLDAYEVENT:TRUE
URL:https://fis.vse.cz/aktuality/fis-hostitelem-mezinarodni-konference-bis-
 2026/
IMAGE;VALUE=URI;FMTTYPE=image/jpeg;DISPLAY=FULLSIZE:https://kalendar.vse.cz
 /img/event/62/6208.jpg
LOCATION:VŠE v Praze
ORGANIZER;CN=jan.cerny@vse.cz:MAILTO:Jan Černý
END:VEVENT
END:VCALENDAR