BEGIN:VCALENDAR
VERSION:2.0
PRODID:spatie/icalendar-generator
NAME:VŠE
X-WR-CALNAME:VŠE
BEGIN:VEVENT
UID:kalendar.vse.cz-date-7983
DTSTAMP:20260421T080549Z
DTSTART;VALUE=DATE:20260517
DTEND;VALUE=DATE:20260628
SUMMARY:Zkouškové období
X-MICROSOFT-CDO-ALLDAYEVENT:TRUE
ORGANIZER;CN=eliska.gutwirthova@vse.cz:MAILTO:VŠE
END:VEVENT
END:VCALENDAR