BEGIN:VCALENDAR
VERSION:2.0
PRODID:spatie/icalendar-generator
NAME:VŠE
X-WR-CALNAME:VŠE
BEGIN:VEVENT
UID:kalendar.vse.cz-date-7653
DTSTAMP:20260423T112721Z
DTSTART;VALUE=DATE:20260526
DTEND;VALUE=DATE:20260529
SUMMARY:48. kongres Evropské účetní asociace (48th Annual Congress of t
 he European Accounting Association)
DESCRIPTION:Výroční kongres Evropské účetní asociace (EAA) je význa
 mnou událostí\, která se každoročně na jaře koná v jiné zemi. Vý
 roční kongres EAA nabízí jedinečnou příležitost k prezentaci úče
 tního výzkumu. Kaž...
X-MICROSOFT-CDO-ALLDAYEVENT:TRUE
URL:https://eaa-online.org/congress-2026/
IMAGE;VALUE=URI;FMTTYPE=image/jpeg;DISPLAY=FULLSIZE:https://kalendar.vse.cz
 /img/event/59/5934.jpg
LOCATION:https://eaa-online.org/congress-2026/
ORGANIZER;CN=prochazd@vse.cz:MAILTO:David Procházka
END:VEVENT
END:VCALENDAR