BEGIN:VCALENDAR
VERSION:2.0
PRODID:spatie/icalendar-generator
NAME:VŠE
X-WR-CALNAME:VŠE
BEGIN:VEVENT
UID:kalendar.vse.cz-date-6903
DTSTAMP:20260421T080527Z
DTSTART;VALUE=DATE:20260516
DTEND;VALUE=DATE:20260517
SUMMARY:Konec letního semestru 2025/2026
X-MICROSOFT-CDO-ALLDAYEVENT:TRUE
ORGANIZER;CN=info@vse.cz:MAILTO:VŠE
END:VEVENT
END:VCALENDAR