BEGIN:VCALENDAR
VERSION:2.0
PRODID:spatie/icalendar-generator
NAME:VŠE
X-WR-CALNAME:VŠE
BEGIN:VEVENT
UID:kalendar.vse.cz-date-8356
DTSTAMP:20260421T041211Z
DTSTART:20260421T160000
DTEND:20260421T193000
SUMMARY:Filmový večer s KPÚ (Klub přátel účetnictví)
DESCRIPTION:Filmový večer s KPÚ se opět blíží a ty u toho rozhodně 
 nesmíš chybět! 😍Letos se společně ponoříme do světa vysokých 
 čísel a ostrých loktů u filmu Vlk z Wall Street. Přijď si užít jed
 inečnou atmosféru ...
URL:https://www.instagram.com/klubpratelucetnictvi/
LOCATION:https://www.instagram.com/klubpratelucetnictvi/
ORGANIZER;CN=kpu-vse@seznam.cz:MAILTO:Tomáš Lopčiansky
END:VEVENT
END:VCALENDAR