BEGIN:VCALENDAR
VERSION:2.0
PRODID:spatie/icalendar-generator
NAME:VŠE
X-WR-CALNAME:VŠE
BEGIN:VEVENT
UID:kalendar.vse.cz-date-8378
DTSTAMP:20260423T112939Z
DTSTART:20260513T150000
DTEND:20260513T163000
SUMMARY:DIY kariéra (s Janem Zedníkem)
DESCRIPTION:Zveme vás na další setkání v sérii DIY kariéra\, ve kte
 ré úspěšní absolventi a absolventky FFÚ představují své cesty k 
 úspěchu\, předávají zkušenosti a inspirují současné studující n
 a FFÚ.\nZískejte zkuš...
URL:https://ffu.vse.cz/aktuality/diy-kariera-2/
IMAGE;VALUE=URI;FMTTYPE=image/jpeg;DISPLAY=FULLSIZE:https://kalendar.vse.cz
 /img/event/65/6561.jpg
LOCATION:NB 177A
ORGANIZER;CN=jiri.vicha@vse.cz:MAILTO:FFÚ
END:VEVENT
END:VCALENDAR