BEGIN:VCALENDAR
VERSION:2.0
PRODID:spatie/icalendar-generator
NAME:VŠE
X-WR-CALNAME:VŠE
BEGIN:VEVENT
UID:kalendar.vse.cz-date-8359
DTSTAMP:20260423T112954Z
DTSTART:20260506T123000
DTEND:20260506T153000
SUMMARY:Klimatická mozaika - interaktivní workshop (Unikátní týmová h
 ra založená na datech IPCC)
DESCRIPTION:Zajímá tě udržitelnost a klimatická změna? Přijď zaží
 t interaktivní workshop\, který tě během 3 hodin provede hlubokými so
 uvislostmi mezi lidskými aktivitami\, emisemi a jejich dopady na přírod
 u i spole...
IMAGE;VALUE=URI;FMTTYPE=image/jpeg;DISPLAY=FULLSIZE:https://kalendar.vse.cz
 /img/event/65/6542.jpg
LOCATION:SB M17 (Klub knihovny)
ORGANIZER;CN=prik09@vse.cz:MAILTO:Kristián Prígl
END:VEVENT
END:VCALENDAR