BEGIN:VCALENDAR
VERSION:2.0
PRODID:spatie/icalendar-generator
NAME:VŠE
X-WR-CALNAME:VŠE
BEGIN:VEVENT
UID:kalendar.vse.cz-date-8348
DTSTAMP:20260423T084606Z
DTSTART:20260614T120000
DTEND:20260614T150000
SUMMARY:Dětský den (Odpoledne plné her pro děti a vnoučata zaměstnanc
 ů VŠE)
DESCRIPTION:Přijďte v neděli 14. června s dětmi či vnoučaty na Dět
 ský den\, který si pro vás připravilo CTVS. Akce se uskuteční na T
 řebešíně od 14:00 do 17:00.\nPro děti jsou připravené tyto aktivity
 :\n\nskákací hrad...
IMAGE;VALUE=URI;FMTTYPE=image/jpeg;DISPLAY=FULLSIZE:https://kalendar.vse.cz
 /img/event/65/6531.jpg
LOCATION:Třebešín
ORGANIZER;CN=pachl@vse.cz:MAILTO:Tomáš Pachl
END:VEVENT
END:VCALENDAR