BEGIN:VCALENDAR
VERSION:2.0
PRODID:spatie/icalendar-generator
NAME:VŠE
X-WR-CALNAME:VŠE
BEGIN:VEVENT
UID:kalendar.vse.cz-date-8408
DTSTAMP:20260424T153930Z
DTSTART:20260429T143000
DTEND:20260429T160000
SUMMARY:Budoucnost Evropy - diskuze s Vladimírem Špidlou (Model United Na
 tions Prague)
DESCRIPTION:Zveme vás na diskusi s bývalým předsedou vlády\, bývalým
  evropským komisařem a současným předsedou Evropského hnutí v Česk
 é republice na téma: Budoucnost Evropy. Přijďte si poslechnout jeho po
 hled na s...
URL:https://www.instagram.com/munprague/
LOCATION:RB 204
ORGANIZER;CN=stet18@vse.cz:MAILTO:Tereza Štěpánková
END:VEVENT
END:VCALENDAR