BEGIN:VCALENDAR
VERSION:2.0
PRODID:spatie/icalendar-generator
NAME:VŠE
X-WR-CALNAME:VŠE
BEGIN:VEVENT
UID:kalendar.vse.cz-date-8413
DTSTAMP:20260424T110055Z
DTSTART:20260427T170000
DTEND:20260427T190000
SUMMARY:Investiční pubquiz (Klub investorů)
DESCRIPTION:Investiční Pubquiz je ZPĚT!Chceš ukázat\, že jsi král/kr
 álovna investic\, nebo si prostě jen užít fajn večer u piva s komunit
 ou? Přijď na náš kvíz!Co tě čeká? 6 kol plných otázek okolo inve
 stic\, ale i d...
URL:https://www.instagram.com/ki_praha/
LOCATION:Restaurace AK VŠE (Akademický klub)
ORGANIZER;CN=events.praha@klubinvestoru.com:MAILTO:Jakub Kolek
END:VEVENT
END:VCALENDAR