BEGIN:VCALENDAR
VERSION:2.0
PRODID:spatie/icalendar-generator
NAME:VŠE
X-WR-CALNAME:VŠE
BEGIN:VEVENT
UID:kalendar.vse.cz-date-8412
DTSTAMP:20260424T110058Z
DTSTART:20260507T160000
DTEND:20260507T183000
SUMMARY:AI caused water banktrupcy: Can we save our planet's water reservoi
 rs? (Model United Nations Prague)
DESCRIPTION:Large data centers can consume hundreds of billions of liters a
 nnually\, one ChatGPT chat can \"drink\" your whole water bottle you took 
 to school. Do you want to discover more about the issue of global ...
URL:https://www.instagram.com/munprague/
LOCATION:Vencovského klub
ORGANIZER;CN=stet18@vse.cz:MAILTO:Tereza Štěpánková
END:VEVENT
END:VCALENDAR