BEGIN:VCALENDAR
VERSION:2.0
PRODID:spatie/icalendar-generator
NAME:VŠE
X-WR-CALNAME:VŠE
BEGIN:VEVENT
UID:kalendar.vse.cz-date-8321
DTSTAMP:20260424T110056Z
DTSTART;VALUE=DATE:20260530
DTEND;VALUE=DATE:20260531
SUMMARY:Application deadline for the CESP Free Movers´ program
DESCRIPTION:Central European Studies in Prague is dedicated to free-mover s
 tudents. The program reviews the past and investigates the present and fut
 ure of the CEE economies\, societies\, politics\, and business. St...
X-MICROSOFT-CDO-ALLDAYEVENT:TRUE
URL:https://cesp.vse.cz/
IMAGE;VALUE=URI;FMTTYPE=image/jpeg;DISPLAY=FULLSIZE:https://kalendar.vse.cz
 /img/event/65/6508.jpg
LOCATION:https://cesp.vse.cz/
ORGANIZER;CN=lenka.stankova@vse.cz:MAILTO:Lenka Staňková
END:VEVENT
END:VCALENDAR